BEGIN:VCALENDAR
PRODID:-//Microsoft Corporation//Outlook 16.0 MIMEDIR//EN
VERSION:2.0
METHOD:REQUEST
X-MS-OLK-FORCEINSPECTOROPEN:TRUE
BEGIN:VTIMEZONE
TZID:Central Standard Time
BEGIN:STANDARD
DTSTART:16011104T020000
RRULE:FREQ=YEARLY;BYDAY=1SU;BYMONTH=11
TZOFFSETFROM:-0500
TZOFFSETTO:-0600
END:STANDARD
BEGIN:DAYLIGHT
DTSTART:16010311T020000
RRULE:FREQ=YEARLY;BYDAY=2SU;BYMONTH=3
TZOFFSETFROM:-0600
TZOFFSETTO:-0500
END:DAYLIGHT
END:VTIMEZONE
BEGIN:VEVENT
ATTENDEE;CN="Backman, Laura (She/Her/Hers) (MMB)";RSVP=TRUE:mailto:Laura.Ba
	ckman@state.mn.us
ATTENDEE;CN="Xiong, Mee (MMB)";RSVP=TRUE:mailto:Mee.Xiong@state.mn.us
ATTENDEE;CN="Dusick, Jeffrey (He/Him/His) (MMB)";RSVP=TRUE:mailto:Jeffrey.D
	usick@state.mn.us
ATTENDEE;CN="Hotz, Anna (She/Her/Hers) (MPCA)";RSVP=TRUE:mailto:Anna.Hotz@s
	tate.mn.us
ATTENDEE;CN="Wright, Brendan (MDH)";RSVP=TRUE:mailto:Brendan.Wright@state.m
	n.us
ATTENDEE;CN="Lessard, Heather M (She/Her/Hers) (DHS)";RSVP=TRUE:mailto:heat
	her.m.lessard@state.mn.us
CLASS:PUBLIC
CREATED:20260402T225354Z
DESCRIPTION:Curious about the Senior Leaders Institute (SLI)? \n\nJoin us f
	or an information session that offers an inside look at these leadership d
	evelopment programs directly from the people who plan and facilitate them\
	, and people who have experienced them.\n\n \n\nWe'll begin with an overvi
	ew of SLI\, including the application process\, program structure\, curric
	ulum\, session pre-work\, leader competency focus\, and program outcomes.\
	nThen\, learn from program alumni as they share their experiences\, key ta
	keaways\, and how they've applied their learning in their roles. We'll als
	o cover practical tips for those considering applying and allow time for a
	udience questions. \n\n \n\nWhether you're actively considering applying o
	r simply exploring your leadership development options\, this session will
	 help you better understand what to expect and how these programs can supp
	ort your growth. \n\n \n\nBring your curiosity and your questions! \n\n \n
	\n \n\n-~-~-~-~-~-~-~-~-~-~-~-~-~-~-~-~-~-~-~-~-~-~-\n\n-- Do not delete o
	r change any of the following text. -- \n\n \n\nWhen it's time\, join your
	 Webex meeting here. \n\n \n\n \n\nMeeting number (access code): 2496 456 
	5736\n\nMeeting password: AgtuxsTM383 \n\n \n\n \n\nJoin meeting <https://
	minnesota.webex.com/minnesota/j.php?MTID=mb4a7f8d6b9ba7ec969f53ea7200a8cb5
	> \n\n \n\nTap to join from a mobile device (attendees only)   \n+1-415-65
	5-0003\,\,24964565736## <tel:%2B1-415-655-0003\,\,*01*24964565736%23%23*01
	*>  United States Toll   \n1-855-282-6330\,\,24964565736## <tel:1-855-282-
	6330\,\,*01*24964565736%23%23*01*>  United States Toll Free  \n\nJoin by p
	hone   \n+1-415-655-0003 United States Toll   \n1-855-282-6330 United Stat
	es Toll Free   \nGlobal call-in numbers <https://minnesota.webex.com/minne
	sota/globalcallin.php?MTID=m7387782a422f1529ebf657edf16ce410> \n\n \n\nJoi
	n from a video system or application\nDial 24964565736@minnesota.webex.com
	 <sip:24964565736@minnesota.webex.com>   \nYou can also dial 173.243.2.68 
	and enter your meeting number. \n\n \n\n \n\nIf you are a host\, click her
	e <https://minnesota.webex.com/webappng/sites/minnesota/meeting/info/851b6
	3a2825e4780a32431a1b3fca031>  and login site to view host information. \n\
	n \n\n \n\nNeed help? Go to http://help.webex.com <https://gcc02.safelinks
	.protection.outlook.com/?url=http%3A%2F%2Fhelp.webex.com%2F&data=05%7C02%7
	CLaura.Backman%40state.mn.us%7Cf3931b79b8db4caa1a9308de910a96e3%7Ceb14b046
	24c445198f26b89c2159828c%7C0%7C0%7C639107671823378478%7CUnknown%7CTWFpbGZs
	b3d8eyJFbXB0eU1hcGkiOnRydWUsIlYiOiIwLjAuMDAwMCIsIlAiOiJXaW4zMiIsIkFOIjoiTW
	FpbCIsIldUIjoyfQ%3D%3D%7C0%7C%7C%7C&sdata=cI8SoyELyCnZA%2BaSCjzIK65Wb%2B9l
	AzBM5uoEpDRP2L8%3D&reserved=0>  \n\n \n\n \n\n
DTEND;TZID="Central Standard Time":20260420T130000
DTSTAMP:20260402T225256Z
DTSTART;TZID="Central Standard Time":20260420T120000
LAST-MODIFIED:20260402T225354Z
LOCATION:https://minnesota.webex.com/minnesota/j.php?MTID=mb4a7f8d6b9ba7ec9
	69f53ea7200a8cb5
ORGANIZER;CN="Gramza, Debra K (She/Her/Hers) (MMB)":mailto:Debra.Gramza@sta
	te.mn.us
PRIORITY:5
SEQUENCE:1
SUMMARY:Senior Leader Institute Information Session 
TRANSP:OPAQUE
UID:040000008200E00074C5B7101A82E0080000000030463C52A0C2DC01000000000000000
	010000000F0996AEA9D55B642AA8E7382B356AC19
X-ALT-DESC;FMTTYPE=text/html:<html xmlns:v="urn:schemas-microsoft-com:vml" 
	xmlns:o="urn:schemas-microsoft-com:office:office" xmlns:w="urn:schemas-mic
	rosoft-com:office:word" xmlns:dt="uuid:C2F41010-65B3-11d1-A29F-00AA00C1488
	2" xmlns:m="http://schemas.microsoft.com/office/2004/12/omml" xmlns="http:
	//www.w3.org/TR/REC-html40"><head>\n<meta name="Generator" content="Micros
	oft Word 15 (filtered medium)"><style><!--\n/* Font Definitions */\n@font-
	face\n	{font-family:"Cambria Math"\;\n	panose-1:2 4 5 3 5 4 6 3 2 4\;}\n@f
	ont-face\n	{font-family:Aptos\;}\n/* Style Definitions */\np.MsoNormal\, l
	i.MsoNormal\, div.MsoNormal\n	{margin:0in\;\n	font-size:12.0pt\;\n	font-fa
	mily:"Aptos"\,sans-serif\;\n	mso-ligatures:standardcontextual\;}\na:link\,
	 span.MsoHyperlink\n	{mso-style-priority:99\;\n	color:#467886\;\n	text-dec
	oration:underline\;}\nspan.EmailStyle18\n	{mso-style-type:personal-compose
	\;}\n.MsoChpDefault\n	{mso-style-type:export-only\;\n	font-size:10.0pt\;\n
		mso-ligatures:none\;}\n@page WordSection1\n	{size:8.5in 11.0in\;\n	margin
	:1.0in 1.0in 1.0in 1.0in\;}\ndiv.WordSection1\n	{page:WordSection1\;}\n-->
	</style></head><body lang="EN-US" link="#467886" vlink="#96607D" style="wo
	rd-wrap:break-word"><div class="WordSection1"><p class="MsoNormal"><span s
	tyle="font-size:11.0pt">Curious about the Senior Leaders Institute (SLI)? 
	<br><br>Join us for an information session that offers an inside look at t
	hese leadership development programs directly from the people who plan and
	 facilitate them\, and people who have experienced them.<o:p></o:p></span>
	</p><p class="MsoNormal"><span style="font-size:11.0pt">&nbsp\;<o:p></o:p>
	</span></p><p class="MsoNormal"><span style="font-size:11.0pt">We'll begin
	 with an overview of SLI\, including the application process\, program str
	ucture\, curriculum\, session pre-work\, leader competency focus\, and pro
	gram outcomes.<br>Then\, learn from program alumni as they share their exp
	eriences\, key takeaways\, and how they've applied their learning in their
	 roles. We'll also cover practical tips for those considering applying and
	 allow time for audience questions.&nbsp\;<o:p></o:p></span></p><p class="
	MsoNormal"><span style="font-size:11.0pt">&nbsp\;<o:p></o:p></span></p><p 
	class="MsoNormal"><span style="font-size:11.0pt">Whether you're actively c
	onsidering applying or simply exploring your leadership development option
	s\, this session will help you better understand what to expect and how th
	ese programs can support your growth.&nbsp\;<o:p></o:p></span></p><p class
	="MsoNormal"><span style="font-size:11.0pt">&nbsp\;<o:p></o:p></span></p><
	p class="MsoNormal"><span style="font-size:11.0pt">Bring your curiosity an
	d your questions!&nbsp\;<o:p></o:p></span></p><p class="MsoNormal"><span s
	tyle="font-size:11.0pt"><o:p>&nbsp\;</o:p></span></p><div><p class="MsoNor
	mal"><span style="mso-ligatures:none"><o:p>&nbsp\;</o:p></span></p><div id
	="WebexMeetingDescription"><p class="MsoNormal"><span style="mso-ligatures
	:none">-~-~-~-~-~-~-~-~-~-~-~-~-~-~-~-~-~-~-~-~-~-~-<a name="MacBeginWBXTa
	g"></a><o:p></o:p></span></p><table class="MsoNormalTable" border="0" cell
	spacing="0" cellpadding="0" align="left" width="100%" style="width:100.0%\
	;background:white"><tr><td style="padding:0in 15.0pt 0in 15.0pt"><p class=
	"MsoNormal" style="mso-element:frame\;mso-element-frame-hspace:2.25pt\;mso
	-element-wrap:around\;mso-element-anchor-vertical:paragraph\;mso-element-a
	nchor-horizontal:column\;mso-height-rule:exactly"><span style="font-size:1
	0.5pt\;font-family:&quot\;Arial&quot\;\,sans-serif\;color:#A0A0A0\;mso-lig
	atures:none">-- Do not delete or change any of the following text. --</spa
	n><span style="color:black\;mso-ligatures:none"> </span><span style="mso-l
	igatures:none"><o:p></o:p></span></p></td></tr><tr style="height:.25in"><t
	d style="padding:0in 15.0pt 0in 15.0pt\;height:.25in"><p class="MsoNormal"
	 style="mso-element:frame\;mso-element-frame-hspace:2.25pt\;mso-element-wr
	ap:around\;mso-element-anchor-vertical:paragraph\;mso-element-anchor-horiz
	ontal:column\;mso-height-rule:exactly"><span style="font-family:&quot\;Ari
	al&quot\;\,sans-serif\;color:black\;mso-ligatures:none">&nbsp\;</span><spa
	n style="font-family:&quot\;Arial&quot\;\,sans-serif\;mso-ligatures:none">
	<o:p></o:p></span></p></td></tr><tr><td style="padding:0in 15.0pt 0in 15.0
	pt"><table class="MsoNormalTable" border="0" cellspacing="0" cellpadding="
	0"><tr><td style="padding:0in 0in 0in 0in"><p class="MsoNormal" style="lin
	e-height:16.5pt\;mso-element:frame\;mso-element-frame-hspace:2.25pt\;mso-e
	lement-wrap:around\;mso-element-anchor-vertical:paragraph\;mso-element-anc
	hor-horizontal:column\;mso-height-rule:exactly"><b><span style="font-famil
	y:&quot\;Arial&quot\;\,sans-serif\;color:black\;mso-ligatures:none">When i
	t's time\, join your Webex meeting here. <o:p></o:p></span></b></p></td></
	tr><tr style="height:.25in"><td style="padding:0in 0in 0in 0in\;height:.25
	in"><p class="MsoNormal" style="line-height:18.0pt\;mso-element:frame\;mso
	-element-frame-hspace:2.25pt\;mso-element-wrap:around\;mso-element-anchor-
	vertical:paragraph\;mso-element-anchor-horizontal:column\;mso-height-rule:
	exactly"><span style="font-family:&quot\;Arial&quot\;\,sans-serif\;mso-lig
	atures:none">&nbsp\;<o:p></o:p></span></p></td></tr></table><p class="MsoN
	ormal" style="mso-element:frame\;mso-element-frame-hspace:2.25pt\;mso-elem
	ent-wrap:around\;mso-element-anchor-vertical:paragraph\;mso-element-anchor
	-horizontal:column\;mso-height-rule:exactly"><span style="display:none\;ms
	o-ligatures:none"><o:p>&nbsp\;</o:p></span></p><table class="MsoNormalTabl
	e" border="0" cellspacing="0" cellpadding="0"><tr><td style="padding:0in 0
	in 0in 0in"><p class="MsoNormal" style="line-height:16.5pt\;mso-element:fr
	ame\;mso-element-frame-hspace:2.25pt\;mso-element-wrap:around\;mso-element
	-anchor-vertical:paragraph\;mso-element-anchor-horizontal:column\;mso-heig
	ht-rule:exactly"><span style="font-family:&quot\;Arial&quot\;\,sans-serif\
	;color:black\;mso-ligatures:none">Meeting number (access code): 2496 456 5
	736<o:p></o:p></span></p></td></tr><tr><td style="padding:0in 0in 0in 0in"
	><p class="MsoNormal" style="line-height:16.5pt\;mso-element:frame\;mso-el
	ement-frame-hspace:2.25pt\;mso-element-wrap:around\;mso-element-anchor-ver
	tical:paragraph\;mso-element-anchor-horizontal:column\;mso-height-rule:exa
	ctly"><span style="font-family:&quot\;Arial&quot\;\,sans-serif\;color:blac
	k\;mso-ligatures:none">Meeting password: AgtuxsTM383 <o:p></o:p></span></p
	></td></tr><tr style="height:24.0pt"><td style="padding:0in 0in 0in 0in\;h
	eight:24.0pt"><p class="MsoNormal" style="line-height:24.0pt\;mso-element:
	frame\;mso-element-frame-hspace:2.25pt\;mso-element-wrap:around\;mso-eleme
	nt-anchor-vertical:paragraph\;mso-element-anchor-horizontal:column\;mso-he
	ight-rule:exactly"><span style="font-family:&quot\;Arial&quot\;\,sans-seri
	f\;mso-ligatures:none">&nbsp\;<o:p></o:p></span></p></td></tr></table><p c
	lass="MsoNormal" style="mso-element:frame\;mso-element-frame-hspace:2.25pt
	\;mso-element-wrap:around\;mso-element-anchor-vertical:paragraph\;mso-elem
	ent-anchor-horizontal:column\;mso-height-rule:exactly"><span style="displa
	y:none\;mso-ligatures:none"><o:p>&nbsp\;</o:p></span></p><table class="Mso
	NormalTable" border="0" cellspacing="0" cellpadding="0" width="0" style="w
	idth:auto!important"><tr><td style="padding:0in 0in 0in 0in\;width:auto!im
	portant"><table class="MsoNormalTable" border="1" cellspacing="0" cellpadd
	ing="0" width="0" style="background:#43A942\;border:solid #43A942 1.0pt\;w
	idth:auto!important"><tr><td style="border:none\;padding:7.5pt 27.0pt 7.5p
	t 27.0pt\;width:auto!important"><p class="MsoNormal" align="center" style=
	"text-align:center\;mso-element:frame\;mso-element-frame-hspace:2.25pt\;ms
	o-element-wrap:around\;mso-element-anchor-vertical:paragraph\;mso-element-
	anchor-horizontal:column\;mso-height-rule:exactly"><span style="color:blac
	k\;mso-ligatures:none"><a href="https://minnesota.webex.com/minnesota/j.ph
	p?MTID=mb4a7f8d6b9ba7ec969f53ea7200a8cb5"><span style="font-size:15.0pt\;f
	ont-family:&quot\;Arial&quot\;\,sans-serif\;color:white\;text-decoration:n
	one">Join meeting</span></a></span><span style="mso-ligatures:none"><o:p><
	/o:p></span></p></td></tr></table></td></tr><tr style="height:.5in"><td st
	yle="padding:0in 0in 0in 0in\;height:.5in"><p class="MsoNormal" style="lin
	e-height:36.0pt\;mso-element:frame\;mso-element-frame-hspace:2.25pt\;mso-e
	lement-wrap:around\;mso-element-anchor-vertical:paragraph\;mso-element-anc
	hor-horizontal:column\;mso-height-rule:exactly"><span style="font-family:&
	quot\;Arial&quot\;\,sans-serif\;mso-ligatures:none">&nbsp\;<o:p></o:p></sp
	an></p></td></tr></table><p class="MsoNormal" style="mso-element:frame\;ms
	o-element-frame-hspace:2.25pt\;mso-element-wrap:around\;mso-element-anchor
	-vertical:paragraph\;mso-element-anchor-horizontal:column\;mso-height-rule
	:exactly"><b><span style="font-size:9.0pt\;font-family:&quot\;Arial&quot\;
	\,sans-serif\;color:black\;mso-ligatures:none">Tap to join from a mobile d
	evice (attendees only)</span></b><span style="font-family:&quot\;Arial&quo
	t\;\,sans-serif\;color:black\;mso-ligatures:none"> &nbsp\; <br></span><spa
	n style="font-size:10.5pt\;font-family:&quot\;Arial&quot\;\,sans-serif\;co
	lor:#333333\;mso-ligatures:none"><a href="tel:%2B1-415-655-0003\,\,*01*249
	64565736%23%23*01*"><span style="color:#005E7D\;text-decoration:none">+1-4
	15-655-0003\,\,24964565736##</span></a> United States Toll</span><span sty
	le="font-family:&quot\;Arial&quot\;\,sans-serif\;color:black\;mso-ligature
	s:none"> &nbsp\; <br></span><span style="font-size:10.5pt\;font-family:&qu
	ot\;Arial&quot\;\,sans-serif\;color:#333333\;mso-ligatures:none"><a href="
	tel:1-855-282-6330\,\,*01*24964565736%23%23*01*"><span style="color:#005E7
	D\;text-decoration:none">1-855-282-6330\,\,24964565736##</span></a> United
	 States Toll Free</span><span style="font-family:&quot\;Arial&quot\;\,sans
	-serif\;color:black\;mso-ligatures:none">&nbsp\; <br><br></span><b><span s
	tyle="font-size:9.0pt\;font-family:&quot\;Arial&quot\;\,sans-serif\;color:
	black\;mso-ligatures:none">Join by phone</span></b><span style="font-famil
	y:&quot\;Arial&quot\;\,sans-serif\;color:black\;mso-ligatures:none"> &nbsp
	\; <br></span><span style="font-size:10.5pt\;font-family:&quot\;Arial&quot
	\;\,sans-serif\;color:#333333\;mso-ligatures:none">+1-415-655-0003 United 
	States Toll</span><span style="font-family:&quot\;Arial&quot\;\,sans-serif
	\;color:black\;mso-ligatures:none"> &nbsp\; <br></span><span style="font-s
	ize:10.5pt\;font-family:&quot\;Arial&quot\;\,sans-serif\;color:#333333\;ms
	o-ligatures:none">1-855-282-6330 United States Toll Free</span><span style
	="font-family:&quot\;Arial&quot\;\,sans-serif\;color:black\;mso-ligatures:
	none"> &nbsp\; <br></span><span style="font-size:10.5pt\;font-family:&quot
	\;Arial&quot\;\,sans-serif\;color:#333333\;mso-ligatures:none"><a href="ht
	tps://minnesota.webex.com/minnesota/globalcallin.php?MTID=m7387782a422f152
	9ebf657edf16ce410"><span style="color:#005E7D\;text-decoration:none">Globa
	l call-in numbers</span></a></span><span style="font-family:&quot\;Arial&q
	uot\;\,sans-serif\;mso-ligatures:none"><o:p></o:p></span></p><table class=
	"MsoNormalTable" border="0" cellspacing="0" cellpadding="0"><tr style="hei
	ght:21.0pt"><td style="padding:0in 0in 0in 0in\;height:21.0pt"><p class="M
	soNormal" style="line-height:21.0pt\;mso-element:frame\;mso-element-frame-
	hspace:2.25pt\;mso-element-wrap:around\;mso-element-anchor-vertical:paragr
	aph\;mso-element-anchor-horizontal:column\;mso-height-rule:exactly"><span 
	style="mso-ligatures:none">&nbsp\;<o:p></o:p></span></p></td></tr></table>
	<p class="MsoNormal" style="mso-element:frame\;mso-element-frame-hspace:2.
	25pt\;mso-element-wrap:around\;mso-element-anchor-vertical:paragraph\;mso-
	element-anchor-horizontal:column\;mso-height-rule:exactly"><b><span style=
	"font-size:9.0pt\;font-family:&quot\;Arial&quot\;\,sans-serif\;color:black
	\;mso-ligatures:none">Join from a video system or application</span></b><s
	pan style="font-family:&quot\;Arial&quot\;\,sans-serif\;color:black\;mso-l
	igatures:none"><br></span><span style="font-size:10.5pt\;font-family:&quot
	\;Arial&quot\;\,sans-serif\;color:#333333\;mso-ligatures:none">Dial</span>
	<span style="font-family:&quot\;Arial&quot\;\,sans-serif\;color:black\;mso
	-ligatures:none"> <a href="sip:24964565736@minnesota.webex.com"><span styl
	e="font-size:10.5pt\;color:#005E7D\;text-decoration:none">24964565736@minn
	esota.webex.com</span></a>&nbsp\; <br></span><span style="font-size:10.5pt
	\;font-family:&quot\;Arial&quot\;\,sans-serif\;color:#333333\;mso-ligature
	s:none">You can also dial 173.243.2.68 and enter your meeting number.</spa
	n><span style="font-family:&quot\;Arial&quot\;\,sans-serif\;color:black\;m
	so-ligatures:none"> </span><span style="font-family:&quot\;Arial&quot\;\,s
	ans-serif\;mso-ligatures:none"><o:p></o:p></span></p><table class="MsoNorm
	alTable" border="0" cellspacing="0" cellpadding="0"><tr style="height:21.0
	pt"><td style="padding:0in 0in 0in 0in\;height:21.0pt"><p class="MsoNormal
	" style="line-height:21.0pt\;mso-element:frame\;mso-element-frame-hspace:2
	.25pt\;mso-element-wrap:around\;mso-element-anchor-vertical:paragraph\;mso
	-element-anchor-horizontal:column\;mso-height-rule:exactly"><span style="m
	so-ligatures:none">&nbsp\;<o:p></o:p></span></p></td></tr></table><p class
	="MsoNormal" style="mso-element:frame\;mso-element-frame-hspace:2.25pt\;ms
	o-element-wrap:around\;mso-element-anchor-vertical:paragraph\;mso-element-
	anchor-horizontal:column\;mso-height-rule:exactly"><span style="font-famil
	y:&quot\;Arial&quot\;\,sans-serif\;display:none\;mso-ligatures:none"><o:p>
	&nbsp\;</o:p></span></p><table class="MsoNormalTable" border="0" cellspaci
	ng="0" cellpadding="0" width="100%" style="width:100.0%"><tr style="height
	:45.0pt"><td style="padding:0in 0in 0in 0in\;height:45.0pt"><p class="MsoN
	ormal" style="line-height:45.0pt\;mso-element:frame\;mso-element-frame-hsp
	ace:2.25pt\;mso-element-wrap:around\;mso-element-anchor-vertical:paragraph
	\;mso-element-anchor-horizontal:column\;mso-height-rule:exactly"><span sty
	le="font-size:10.0pt\;font-family:&quot\;Arial&quot\;\,sans-serif\;color:b
	lack\;mso-ligatures:none">If you are a host\, </span><span style="font-fam
	ily:&quot\;Arial&quot\;\,sans-serif\;mso-ligatures:none"><a href="https://
	minnesota.webex.com/webappng/sites/minnesota/meeting/info/851b63a2825e4780
	a32431a1b3fca031"><span style="font-size:10.0pt\;color:#005E7D\;text-decor
	ation:none">click here</span></a></span><span style="font-size:10.0pt\;fon
	t-family:&quot\;Arial&quot\;\,sans-serif\;color:black\;mso-ligatures:none"
	> and login site to view host information.</span><span style="font-family:
	&quot\;Arial&quot\;\,sans-serif\;mso-ligatures:none"> <o:p></o:p></span></
	p></td></tr></table><p class="MsoNormal" style="mso-element:frame\;mso-ele
	ment-frame-hspace:2.25pt\;mso-element-wrap:around\;mso-element-anchor-vert
	ical:paragraph\;mso-element-anchor-horizontal:column\;mso-height-rule:exac
	tly"><span style="font-family:&quot\;Arial&quot\;\,sans-serif\;display:non
	e\;mso-ligatures:none"><o:p>&nbsp\;</o:p></span></p><table class="MsoNorma
	lTable" border="0" cellspacing="0" cellpadding="0" width="100%" style="wid
	th:100.0%"><tr style="height:.75in"><td style="padding:0in 0in 0in 0in\;he
	ight:.75in"><p class="MsoNormal" style="mso-element:frame\;mso-element-fra
	me-hspace:2.25pt\;mso-element-wrap:around\;mso-element-anchor-vertical:par
	agraph\;mso-element-anchor-horizontal:column\;mso-height-rule:exactly"><sp
	an style="font-family:&quot\;Arial&quot\;\,sans-serif\;mso-ligatures:none"
	>&nbsp\;<o:p></o:p></span></p></td></tr><tr><td style="padding:0in 0in 0in
	 0in"><p class="MsoNormal" style="line-height:18.0pt\;mso-element:frame\;m
	so-element-frame-hspace:2.25pt\;mso-element-wrap:around\;mso-element-ancho
	r-vertical:paragraph\;mso-element-anchor-horizontal:column\;mso-height-rul
	e:exactly"><span style="font-size:10.5pt\;font-family:&quot\;Arial&quot\;\
	,sans-serif\;color:black\;mso-ligatures:none">Need help? Go to <a href="ht
	tps://gcc02.safelinks.protection.outlook.com/?url=http%3A%2F%2Fhelp.webex.
	com%2F&amp\;data=05%7C02%7CLaura.Backman%40state.mn.us%7Cf3931b79b8db4caa1
	a9308de910a96e3%7Ceb14b04624c445198f26b89c2159828c%7C0%7C0%7C6391076718233
	78478%7CUnknown%7CTWFpbGZsb3d8eyJFbXB0eU1hcGkiOnRydWUsIlYiOiIwLjAuMDAwMCIs
	IlAiOiJXaW4zMiIsIkFOIjoiTWFpbCIsIldUIjoyfQ%3D%3D%7C0%7C%7C%7C&amp\;sdata=c
	I8SoyELyCnZA%2BaSCjzIK65Wb%2B9lAzBM5uoEpDRP2L8%3D&amp\;reserved=0" origina
	lsrc="http://help.webex.com/"><span style="color:#049FD9\;text-decoration:
	none">http://help.webex.com</span></a> <o:p></o:p></span></p></td></tr><tr
	 style="height:33.0pt"><td style="padding:0in 0in 0in 0in\;height:33.0pt">
	<p class="MsoNormal" style="mso-element:frame\;mso-element-frame-hspace:2.
	25pt\;mso-element-wrap:around\;mso-element-anchor-vertical:paragraph\;mso-
	element-anchor-horizontal:column\;mso-height-rule:exactly"><span style="fo
	nt-family:&quot\;Arial&quot\;\,sans-serif\;mso-ligatures:none">&nbsp\;<o:p
	></o:p></span></p></td></tr></table><p class="MsoNormal"><span style="mso-
	ligatures:none"><o:p></o:p></span></p></td></tr></table><p class="MsoNorma
	l"><a name="MacEndWBXTag"></a><span style="mso-ligatures:none"><o:p>&nbsp\
	;</o:p></span></p></div></div></div></body></html>
X-MICROSOFT-CDO-BUSYSTATUS:TENTATIVE
X-MICROSOFT-CDO-IMPORTANCE:1
X-MICROSOFT-CDO-INTENDEDSTATUS:BUSY
X-MICROSOFT-DISALLOW-COUNTER:FALSE
X-MS-OLK-APPTLASTSEQUENCE:1
X-MS-OLK-APPTSEQTIME:20260402T214001Z
BEGIN:VALARM
TRIGGER:-PT15M
ACTION:DISPLAY
DESCRIPTION:Reminder
END:VALARM
END:VEVENT
END:VCALENDAR
