BEGIN:VCALENDAR
PRODID:-//Microsoft Corporation//Outlook 16.0 MIMEDIR//EN
VERSION:2.0
METHOD:REQUEST
X-MS-OLK-FORCEINSPECTOROPEN:TRUE
BEGIN:VTIMEZONE
TZID:Central Standard Time
BEGIN:STANDARD
DTSTART:16011104T020000
RRULE:FREQ=YEARLY;BYDAY=1SU;BYMONTH=11
TZOFFSETFROM:-0500
TZOFFSETTO:-0600
END:STANDARD
BEGIN:DAYLIGHT
DTSTART:16010311T020000
RRULE:FREQ=YEARLY;BYDAY=2SU;BYMONTH=3
TZOFFSETFROM:-0600
TZOFFSETTO:-0500
END:DAYLIGHT
END:VTIMEZONE
BEGIN:VEVENT
ATTENDEE;CN="Gramza, Debra K (She/Her/Hers) (MMB)";RSVP=TRUE:mailto:Debra.G
	ramza@state.mn.us
ATTENDEE;CN="Xiong, Mee (MMB)";RSVP=TRUE:mailto:Mee.Xiong@state.mn.us
ATTENDEE;CN="Dusick, Jeffrey (He/Him/His) (MMB)";RSVP=TRUE:mailto:Jeffrey.D
	usick@state.mn.us
ATTENDEE;CN="Backman, Laura (She/Her/Hers) (MMB)";RSVP=TRUE:mailto:Laura.Ba
	ckman@state.mn.us
ATTENDEE;CN="Lobby, Sam (He/Him/His) (PUC)";RSVP=TRUE:mailto:Sam.Lobby@stat
	e.mn.us
ATTENDEE;CN="Blanchard, Kate (MN Tax Court)";RSVP=TRUE:mailto:kate.blanchar
	d@state.mn.us
ATTENDEE;CN="Munn, Jill (She/Her/Hers) (MDOR)";RSVP=TRUE:mailto:Jill.Munn@s
	tate.mn.us
ATTENDEE;CN="Brandhorst, Ben (He/Him/His) (MNIT)";RSVP=TRUE:mailto:Ben.Bran
	dhorst@state.mn.us
CLASS:PUBLIC
CREATED:20260402T225010Z
DESCRIPTION:Curious about the Emerging Leaders Institute (ELI)? \n\nJoin us
	 for an information session that offers an inside look at these leadership
	 development programs directly from the people who plan and facilitate the
	m and  people who have experienced them.\n\n \n\nWe'll begin with an overv
	iew of ELI\, including the application process\, program structure\, curri
	culum\, session pre-work\, expectations\, and leader competency focus. \nT
	hen\, learn from program alumni as they share their experiences\, key take
	aways\, and how they've applied their learning in their roles. We'll also 
	cover practical tips for those considering applying and allow time for aud
	ience questions. \n\n \n\nWhether you're actively considering applying or 
	simply exploring your leadership development options\, this session will h
	elp you better understand what to expect and how these programs can suppor
	t your growth. \n\n \n\nBring your curiosity and your questions! \n\n \n\n
	 \n\n-~-~-~-~-~-~-~-~-~-~-~-~-~-~-~-~-~-~-~-~-~-~-\n\n-- Do not delete or 
	change any of the following text. -- \n\n \n\nWhen it's time\, join your W
	ebex meeting here. \n\n \n\n \n\nMeeting number (access code): 2491 154 88
	23\n\nMeeting password: iPgJUX7rM55 \n\n \n\n \n\nJoin meeting <https://mi
	nnesota.webex.com/minnesota/j.php?MTID=mfdf145627db72409d37bcf47c9e38b32> 
	\n\n \n\nTap to join from a mobile device (attendees only)   \n+1-415-655-
	0003\,\,24911548823## <tel:%2B1-415-655-0003\,\,*01*24911548823%23%23*01*>
	  United States Toll   \n1-855-282-6330\,\,24911548823## <tel:1-855-282-63
	30\,\,*01*24911548823%23%23*01*>  United States Toll Free  \n\nJoin by pho
	ne   \n+1-415-655-0003 United States Toll   \n1-855-282-6330 United States
	 Toll Free   \nGlobal call-in numbers <https://minnesota.webex.com/minneso
	ta/globalcallin.php?MTID=m8b2c5e2e1cadfa655a1e054f9dca934e> \n\n \n\nJoin 
	from a video system or application\nDial 24911548823@minnesota.webex.com <
	sip:24911548823@minnesota.webex.com>   \nYou can also dial 173.243.2.68 an
	d enter your meeting number. \n\n \n\n \n\nIf you are a host\, click here 
	<https://minnesota.webex.com/webappng/sites/minnesota/meeting/info/95cbf1d
	4ed414a618ee97db4faa1bb5d>  and login site to view host information. \n\n 
	\n\n \n\nNeed help? Go to http://help.webex.com <https://gcc02.safelinks.p
	rotection.outlook.com/?url=http%3A%2F%2Fhelp.webex.com%2F&data=05%7C02%7CL
	aura.Backman%40state.mn.us%7C0eb2efd0e0e4425e7d7b08de90ffcd70%7Ceb14b04624
	c445198f26b89c2159828c%7C0%7C0%7C639107625488850094%7CUnknown%7CTWFpbGZsb3
	d8eyJFbXB0eU1hcGkiOnRydWUsIlYiOiIwLjAuMDAwMCIsIlAiOiJXaW4zMiIsIkFOIjoiTWFp
	bCIsIldUIjoyfQ%3D%3D%7C0%7C%7C%7C&sdata=XoNU1lFWCsNClVXOkCTv7hnq%2B0sLradu
	hx9UqQZTWIE%3D&reserved=0>  \n\n \n\n \n\n
DTEND;TZID="Central Standard Time":20260417T110000
DTSTAMP:20260402T213542Z
DTSTART;TZID="Central Standard Time":20260417T100000
LAST-MODIFIED:20260402T225010Z
LOCATION:https://minnesota.webex.com/minnesota/j.php?MTID=mfdf145627db72409
	d37bcf47c9e38b32
ORGANIZER;CN="Gramza, Debra K (She/Her/Hers) (MMB)":mailto:Debra.Gramza@sta
	te.mn.us
PRIORITY:5
SEQUENCE:0
SUMMARY:Emerging Leaders Institute Information Session  (4/17/26)
TRANSP:OPAQUE
UID:040000008200E00074C5B7101A82E00800000000103D297ABEC2DC01000000000000000
	01000000084A24205A9C3E249B98A683CB568F6F2
X-ALT-DESC;FMTTYPE=text/html:<html xmlns:v="urn:schemas-microsoft-com:vml" 
	xmlns:o="urn:schemas-microsoft-com:office:office" xmlns:w="urn:schemas-mic
	rosoft-com:office:word" xmlns:dt="uuid:C2F41010-65B3-11d1-A29F-00AA00C1488
	2" xmlns:m="http://schemas.microsoft.com/office/2004/12/omml" xmlns="http:
	//www.w3.org/TR/REC-html40"><head>\n<meta name="Generator" content="Micros
	oft Word 15 (filtered medium)"><style><!--\n/* Font Definitions */\n@font-
	face\n	{font-family:"Cambria Math"\;\n	panose-1:2 4 5 3 5 4 6 3 2 4\;}\n@f
	ont-face\n	{font-family:Aptos\;}\n/* Style Definitions */\np.MsoNormal\, l
	i.MsoNormal\, div.MsoNormal\n	{margin:0in\;\n	font-size:12.0pt\;\n	font-fa
	mily:"Aptos"\,sans-serif\;\n	mso-ligatures:standardcontextual\;}\na:link\,
	 span.MsoHyperlink\n	{mso-style-priority:99\;\n	color:#467886\;\n	text-dec
	oration:underline\;}\nspan.EmailStyle18\n	{mso-style-type:personal-compose
	\;}\n.MsoChpDefault\n	{mso-style-type:export-only\;\n	font-size:10.0pt\;\n
		mso-ligatures:none\;}\n@page WordSection1\n	{size:8.5in 11.0in\;\n	margin
	:1.0in 1.0in 1.0in 1.0in\;}\ndiv.WordSection1\n	{page:WordSection1\;}\n-->
	</style></head><body lang="EN-US" link="#467886" vlink="#96607D" style="wo
	rd-wrap:break-word"><div class="WordSection1"><p class="MsoNormal"><span s
	tyle="font-size:11.0pt">Curious about the Emerging Leaders Institute (ELI)
	? <br><br>Join us for an information session that offers an inside look at
	 these leadership development programs directly from the people who plan a
	nd facilitate them and &nbsp\;people who have experienced them.<o:p></o:p>
	</span></p><p class="MsoNormal"><span style="font-size:11.0pt">&nbsp\;<o:p
	></o:p></span></p><p class="MsoNormal"><span style="font-size:11.0pt">We'l
	l begin with an overview of ELI\, including the application process\, prog
	ram structure\, curriculum\, session pre-work\, expectations\, and leader 
	competency focus. <br>Then\, learn from program alumni as they share their
	 experiences\, key takeaways\, and how they've applied their learning in t
	heir roles. We'll also cover practical tips for those considering applying
	 and allow time for audience questions.&nbsp\;<o:p></o:p></span></p><p cla
	ss="MsoNormal"><span style="font-size:11.0pt">&nbsp\;<o:p></o:p></span></p
	><p class="MsoNormal"><span style="font-size:11.0pt">Whether you're active
	ly considering applying or simply exploring your leadership development op
	tions\, this session will help you better understand what to expect and ho
	w these programs can support your growth.&nbsp\;<o:p></o:p></span></p><p c
	lass="MsoNormal"><span style="font-size:11.0pt">&nbsp\;<o:p></o:p></span><
	/p><p class="MsoNormal"><span style="font-size:11.0pt">Bring your curiosit
	y and your questions!&nbsp\;<o:p></o:p></span></p><p class="MsoNormal"><sp
	an style="font-size:11.0pt"><o:p>&nbsp\;</o:p></span></p><div><p class="Ms
	oNormal"><span style="mso-ligatures:none"><o:p>&nbsp\;</o:p></span></p><di
	v id="WebexMeetingDescription"><p class="MsoNormal"><span style="mso-ligat
	ures:none">-~-~-~-~-~-~-~-~-~-~-~-~-~-~-~-~-~-~-~-~-~-~-<a name="MacBeginW
	BXTag"></a><o:p></o:p></span></p><table class="MsoNormalTable" border="0" 
	cellspacing="0" cellpadding="0" align="left" width="100%" style="width:100
	.0%\;background:white"><tr><td style="padding:0in 15.0pt 0in 15.0pt"><p cl
	ass="MsoNormal" style="mso-element:frame\;mso-element-frame-hspace:2.25pt\
	;mso-element-wrap:around\;mso-element-anchor-vertical:paragraph\;mso-eleme
	nt-anchor-horizontal:column\;mso-height-rule:exactly"><span style="font-si
	ze:10.5pt\;font-family:&quot\;Arial&quot\;\,sans-serif\;color:#A0A0A0\;mso
	-ligatures:none">-- Do not delete or change any of the following text. --<
	/span><span style="color:black\;mso-ligatures:none"> </span><span style="m
	so-ligatures:none"><o:p></o:p></span></p></td></tr><tr style="height:.25in
	"><td style="padding:0in 15.0pt 0in 15.0pt\;height:.25in"><p class="MsoNor
	mal" style="mso-element:frame\;mso-element-frame-hspace:2.25pt\;mso-elemen
	t-wrap:around\;mso-element-anchor-vertical:paragraph\;mso-element-anchor-h
	orizontal:column\;mso-height-rule:exactly"><span style="font-family:&quot\
	;Arial&quot\;\,sans-serif\;color:black\;mso-ligatures:none">&nbsp\;</span>
	<span style="font-family:&quot\;Arial&quot\;\,sans-serif\;mso-ligatures:no
	ne"><o:p></o:p></span></p></td></tr><tr><td style="padding:0in 15.0pt 0in 
	15.0pt"><table class="MsoNormalTable" border="0" cellspacing="0" cellpaddi
	ng="0"><tr><td style="padding:0in 0in 0in 0in"><p class="MsoNormal" style=
	"line-height:16.5pt\;mso-element:frame\;mso-element-frame-hspace:2.25pt\;m
	so-element-wrap:around\;mso-element-anchor-vertical:paragraph\;mso-element
	-anchor-horizontal:column\;mso-height-rule:exactly"><b><span style="font-f
	amily:&quot\;Arial&quot\;\,sans-serif\;color:black\;mso-ligatures:none">Wh
	en it's time\, join your Webex meeting here. <o:p></o:p></span></b></p></t
	d></tr><tr style="height:.25in"><td style="padding:0in 0in 0in 0in\;height
	:.25in"><p class="MsoNormal" style="line-height:18.0pt\;mso-element:frame\
	;mso-element-frame-hspace:2.25pt\;mso-element-wrap:around\;mso-element-anc
	hor-vertical:paragraph\;mso-element-anchor-horizontal:column\;mso-height-r
	ule:exactly"><span style="font-family:&quot\;Arial&quot\;\,sans-serif\;mso
	-ligatures:none">&nbsp\;<o:p></o:p></span></p></td></tr></table><p class="
	MsoNormal" style="mso-element:frame\;mso-element-frame-hspace:2.25pt\;mso-
	element-wrap:around\;mso-element-anchor-vertical:paragraph\;mso-element-an
	chor-horizontal:column\;mso-height-rule:exactly"><span style="display:none
	\;mso-ligatures:none"><o:p>&nbsp\;</o:p></span></p><table class="MsoNormal
	Table" border="0" cellspacing="0" cellpadding="0"><tr><td style="padding:0
	in 0in 0in 0in"><p class="MsoNormal" style="line-height:16.5pt\;mso-elemen
	t:frame\;mso-element-frame-hspace:2.25pt\;mso-element-wrap:around\;mso-ele
	ment-anchor-vertical:paragraph\;mso-element-anchor-horizontal:column\;mso-
	height-rule:exactly"><span style="font-family:&quot\;Arial&quot\;\,sans-se
	rif\;color:black\;mso-ligatures:none">Meeting number (access code): 2491 1
	54 8823<o:p></o:p></span></p></td></tr><tr><td style="padding:0in 0in 0in 
	0in"><p class="MsoNormal" style="line-height:16.5pt\;mso-element:frame\;ms
	o-element-frame-hspace:2.25pt\;mso-element-wrap:around\;mso-element-anchor
	-vertical:paragraph\;mso-element-anchor-horizontal:column\;mso-height-rule
	:exactly"><span style="font-family:&quot\;Arial&quot\;\,sans-serif\;color:
	black\;mso-ligatures:none">Meeting password: iPgJUX7rM55 <o:p></o:p></span
	></p></td></tr><tr style="height:24.0pt"><td style="padding:0in 0in 0in 0i
	n\;height:24.0pt"><p class="MsoNormal" style="line-height:24.0pt\;mso-elem
	ent:frame\;mso-element-frame-hspace:2.25pt\;mso-element-wrap:around\;mso-e
	lement-anchor-vertical:paragraph\;mso-element-anchor-horizontal:column\;ms
	o-height-rule:exactly"><span style="font-family:&quot\;Arial&quot\;\,sans-
	serif\;mso-ligatures:none">&nbsp\;<o:p></o:p></span></p></td></tr></table>
	<p class="MsoNormal" style="mso-element:frame\;mso-element-frame-hspace:2.
	25pt\;mso-element-wrap:around\;mso-element-anchor-vertical:paragraph\;mso-
	element-anchor-horizontal:column\;mso-height-rule:exactly"><span style="di
	splay:none\;mso-ligatures:none"><o:p>&nbsp\;</o:p></span></p><table class=
	"MsoNormalTable" border="0" cellspacing="0" cellpadding="0" width="0" styl
	e="width:auto!important"><tr><td style="padding:0in 0in 0in 0in\;width:aut
	o!important"><table class="MsoNormalTable" border="1" cellspacing="0" cell
	padding="0" width="0" style="background:#43A942\;border:solid #43A942 1.0p
	t\;width:auto!important"><tr><td style="border:none\;padding:7.5pt 27.0pt 
	7.5pt 27.0pt\;width:auto!important"><p class="MsoNormal" align="center" st
	yle="text-align:center\;mso-element:frame\;mso-element-frame-hspace:2.25pt
	\;mso-element-wrap:around\;mso-element-anchor-vertical:paragraph\;mso-elem
	ent-anchor-horizontal:column\;mso-height-rule:exactly"><span style="color:
	black\;mso-ligatures:none"><a href="https://minnesota.webex.com/minnesota/
	j.php?MTID=mfdf145627db72409d37bcf47c9e38b32"><span style="font-size:15.0p
	t\;font-family:&quot\;Arial&quot\;\,sans-serif\;color:white\;text-decorati
	on:none">Join meeting</span></a></span><span style="mso-ligatures:none"><o
	:p></o:p></span></p></td></tr></table></td></tr><tr style="height:.5in"><t
	d style="padding:0in 0in 0in 0in\;height:.5in"><p class="MsoNormal" style=
	"line-height:36.0pt\;mso-element:frame\;mso-element-frame-hspace:2.25pt\;m
	so-element-wrap:around\;mso-element-anchor-vertical:paragraph\;mso-element
	-anchor-horizontal:column\;mso-height-rule:exactly"><span style="font-fami
	ly:&quot\;Arial&quot\;\,sans-serif\;mso-ligatures:none">&nbsp\;<o:p></o:p>
	</span></p></td></tr></table><p class="MsoNormal" style="mso-element:frame
	\;mso-element-frame-hspace:2.25pt\;mso-element-wrap:around\;mso-element-an
	chor-vertical:paragraph\;mso-element-anchor-horizontal:column\;mso-height-
	rule:exactly"><b><span style="font-size:9.0pt\;font-family:&quot\;Arial&qu
	ot\;\,sans-serif\;color:black\;mso-ligatures:none">Tap to join from a mobi
	le device (attendees only)</span></b><span style="font-family:&quot\;Arial
	&quot\;\,sans-serif\;color:black\;mso-ligatures:none"> &nbsp\; <br></span>
	<span style="font-size:10.5pt\;font-family:&quot\;Arial&quot\;\,sans-serif
	\;color:#333333\;mso-ligatures:none"><a href="tel:%2B1-415-655-0003\,\,*01
	*24911548823%23%23*01*"><span style="color:#005E7D\;text-decoration:none">
	+1-415-655-0003\,\,24911548823##</span></a> United States Toll</span><span
	 style="font-family:&quot\;Arial&quot\;\,sans-serif\;color:black\;mso-liga
	tures:none"> &nbsp\; <br></span><span style="font-size:10.5pt\;font-family
	:&quot\;Arial&quot\;\,sans-serif\;color:#333333\;mso-ligatures:none"><a hr
	ef="tel:1-855-282-6330\,\,*01*24911548823%23%23*01*"><span style="color:#0
	05E7D\;text-decoration:none">1-855-282-6330\,\,24911548823##</span></a> Un
	ited States Toll Free</span><span style="font-family:&quot\;Arial&quot\;\,
	sans-serif\;color:black\;mso-ligatures:none">&nbsp\; <br><br></span><b><sp
	an style="font-size:9.0pt\;font-family:&quot\;Arial&quot\;\,sans-serif\;co
	lor:black\;mso-ligatures:none">Join by phone</span></b><span style="font-f
	amily:&quot\;Arial&quot\;\,sans-serif\;color:black\;mso-ligatures:none"> &
	nbsp\; <br></span><span style="font-size:10.5pt\;font-family:&quot\;Arial&
	quot\;\,sans-serif\;color:#333333\;mso-ligatures:none">+1-415-655-0003 Uni
	ted States Toll</span><span style="font-family:&quot\;Arial&quot\;\,sans-s
	erif\;color:black\;mso-ligatures:none"> &nbsp\; <br></span><span style="fo
	nt-size:10.5pt\;font-family:&quot\;Arial&quot\;\,sans-serif\;color:#333333
	\;mso-ligatures:none">1-855-282-6330 United States Toll Free</span><span s
	tyle="font-family:&quot\;Arial&quot\;\,sans-serif\;color:black\;mso-ligatu
	res:none"> &nbsp\; <br></span><span style="font-size:10.5pt\;font-family:&
	quot\;Arial&quot\;\,sans-serif\;color:#333333\;mso-ligatures:none"><a href
	="https://minnesota.webex.com/minnesota/globalcallin.php?MTID=m8b2c5e2e1ca
	dfa655a1e054f9dca934e"><span style="color:#005E7D\;text-decoration:none">G
	lobal call-in numbers</span></a></span><span style="font-family:&quot\;Ari
	al&quot\;\,sans-serif\;mso-ligatures:none"><o:p></o:p></span></p><table cl
	ass="MsoNormalTable" border="0" cellspacing="0" cellpadding="0"><tr style=
	"height:21.0pt"><td style="padding:0in 0in 0in 0in\;height:21.0pt"><p clas
	s="MsoNormal" style="line-height:21.0pt\;mso-element:frame\;mso-element-fr
	ame-hspace:2.25pt\;mso-element-wrap:around\;mso-element-anchor-vertical:pa
	ragraph\;mso-element-anchor-horizontal:column\;mso-height-rule:exactly"><s
	pan style="mso-ligatures:none">&nbsp\;<o:p></o:p></span></p></td></tr></ta
	ble><p class="MsoNormal" style="mso-element:frame\;mso-element-frame-hspac
	e:2.25pt\;mso-element-wrap:around\;mso-element-anchor-vertical:paragraph\;
	mso-element-anchor-horizontal:column\;mso-height-rule:exactly"><b><span st
	yle="font-size:9.0pt\;font-family:&quot\;Arial&quot\;\,sans-serif\;color:b
	lack\;mso-ligatures:none">Join from a video system or application</span></
	b><span style="font-family:&quot\;Arial&quot\;\,sans-serif\;color:black\;m
	so-ligatures:none"><br></span><span style="font-size:10.5pt\;font-family:&
	quot\;Arial&quot\;\,sans-serif\;color:#333333\;mso-ligatures:none">Dial</s
	pan><span style="font-family:&quot\;Arial&quot\;\,sans-serif\;color:black\
	;mso-ligatures:none"> <a href="sip:24911548823@minnesota.webex.com"><span 
	style="font-size:10.5pt\;color:#005E7D\;text-decoration:none">24911548823@
	minnesota.webex.com</span></a>&nbsp\; <br></span><span style="font-size:10
	.5pt\;font-family:&quot\;Arial&quot\;\,sans-serif\;color:#333333\;mso-liga
	tures:none">You can also dial 173.243.2.68 and enter your meeting number.<
	/span><span style="font-family:&quot\;Arial&quot\;\,sans-serif\;color:blac
	k\;mso-ligatures:none"> </span><span style="font-family:&quot\;Arial&quot\
	;\,sans-serif\;mso-ligatures:none"><o:p></o:p></span></p><table class="Mso
	NormalTable" border="0" cellspacing="0" cellpadding="0"><tr style="height:
	21.0pt"><td style="padding:0in 0in 0in 0in\;height:21.0pt"><p class="MsoNo
	rmal" style="line-height:21.0pt\;mso-element:frame\;mso-element-frame-hspa
	ce:2.25pt\;mso-element-wrap:around\;mso-element-anchor-vertical:paragraph\
	;mso-element-anchor-horizontal:column\;mso-height-rule:exactly"><span styl
	e="mso-ligatures:none">&nbsp\;<o:p></o:p></span></p></td></tr></table><p c
	lass="MsoNormal" style="mso-element:frame\;mso-element-frame-hspace:2.25pt
	\;mso-element-wrap:around\;mso-element-anchor-vertical:paragraph\;mso-elem
	ent-anchor-horizontal:column\;mso-height-rule:exactly"><span style="font-f
	amily:&quot\;Arial&quot\;\,sans-serif\;display:none\;mso-ligatures:none"><
	o:p>&nbsp\;</o:p></span></p><table class="MsoNormalTable" border="0" cells
	pacing="0" cellpadding="0" width="100%" style="width:100.0%"><tr style="he
	ight:45.0pt"><td style="padding:0in 0in 0in 0in\;height:45.0pt"><p class="
	MsoNormal" style="line-height:45.0pt\;mso-element:frame\;mso-element-frame
	-hspace:2.25pt\;mso-element-wrap:around\;mso-element-anchor-vertical:parag
	raph\;mso-element-anchor-horizontal:column\;mso-height-rule:exactly"><span
	 style="font-size:10.0pt\;font-family:&quot\;Arial&quot\;\,sans-serif\;col
	or:black\;mso-ligatures:none">If you are a host\, </span><span style="font
	-family:&quot\;Arial&quot\;\,sans-serif\;mso-ligatures:none"><a href="http
	s://minnesota.webex.com/webappng/sites/minnesota/meeting/info/95cbf1d4ed41
	4a618ee97db4faa1bb5d"><span style="font-size:10.0pt\;color:#005E7D\;text-d
	ecoration:none">click here</span></a></span><span style="font-size:10.0pt\
	;font-family:&quot\;Arial&quot\;\,sans-serif\;color:black\;mso-ligatures:n
	one"> and login site to view host information.</span><span style="font-fam
	ily:&quot\;Arial&quot\;\,sans-serif\;mso-ligatures:none"> <o:p></o:p></spa
	n></p></td></tr></table><p class="MsoNormal" style="mso-element:frame\;mso
	-element-frame-hspace:2.25pt\;mso-element-wrap:around\;mso-element-anchor-
	vertical:paragraph\;mso-element-anchor-horizontal:column\;mso-height-rule:
	exactly"><span style="font-family:&quot\;Arial&quot\;\,sans-serif\;display
	:none\;mso-ligatures:none"><o:p>&nbsp\;</o:p></span></p><table class="MsoN
	ormalTable" border="0" cellspacing="0" cellpadding="0" width="100%" style=
	"width:100.0%"><tr style="height:.75in"><td style="padding:0in 0in 0in 0in
	\;height:.75in"><p class="MsoNormal" style="mso-element:frame\;mso-element
	-frame-hspace:2.25pt\;mso-element-wrap:around\;mso-element-anchor-vertical
	:paragraph\;mso-element-anchor-horizontal:column\;mso-height-rule:exactly"
	><span style="font-family:&quot\;Arial&quot\;\,sans-serif\;mso-ligatures:n
	one">&nbsp\;<o:p></o:p></span></p></td></tr><tr><td style="padding:0in 0in
	 0in 0in"><p class="MsoNormal" style="line-height:18.0pt\;mso-element:fram
	e\;mso-element-frame-hspace:2.25pt\;mso-element-wrap:around\;mso-element-a
	nchor-vertical:paragraph\;mso-element-anchor-horizontal:column\;mso-height
	-rule:exactly"><span style="font-size:10.5pt\;font-family:&quot\;Arial&quo
	t\;\,sans-serif\;color:black\;mso-ligatures:none">Need help? Go to <a href
	="https://gcc02.safelinks.protection.outlook.com/?url=http%3A%2F%2Fhelp.we
	bex.com%2F&amp\;data=05%7C02%7CLaura.Backman%40state.mn.us%7C0eb2efd0e0e44
	25e7d7b08de90ffcd70%7Ceb14b04624c445198f26b89c2159828c%7C0%7C0%7C639107625
	488850094%7CUnknown%7CTWFpbGZsb3d8eyJFbXB0eU1hcGkiOnRydWUsIlYiOiIwLjAuMDAw
	MCIsIlAiOiJXaW4zMiIsIkFOIjoiTWFpbCIsIldUIjoyfQ%3D%3D%7C0%7C%7C%7C&amp\;sda
	ta=XoNU1lFWCsNClVXOkCTv7hnq%2B0sLraduhx9UqQZTWIE%3D&amp\;reserved=0" origi
	nalsrc="http://help.webex.com/"><span style="color:#049FD9\;text-decoratio
	n:none">http://help.webex.com</span></a> <o:p></o:p></span></p></td></tr><
	tr style="height:33.0pt"><td style="padding:0in 0in 0in 0in\;height:33.0pt
	"><p class="MsoNormal" style="mso-element:frame\;mso-element-frame-hspace:
	2.25pt\;mso-element-wrap:around\;mso-element-anchor-vertical:paragraph\;ms
	o-element-anchor-horizontal:column\;mso-height-rule:exactly"><span style="
	font-family:&quot\;Arial&quot\;\,sans-serif\;mso-ligatures:none">&nbsp\;<o
	:p></o:p></span></p></td></tr></table><p class="MsoNormal"><span style="ms
	o-ligatures:none"><o:p></o:p></span></p></td></tr></table><p class="MsoNor
	mal"><a name="MacEndWBXTag"></a><span style="mso-ligatures:none"><o:p>&nbs
	p\;</o:p></span></p></div></div></div></body></html>
X-MICROSOFT-CDO-BUSYSTATUS:TENTATIVE
X-MICROSOFT-CDO-IMPORTANCE:1
X-MICROSOFT-CDO-INTENDEDSTATUS:BUSY
X-MICROSOFT-DISALLOW-COUNTER:FALSE
X-MS-OLK-APPTLASTSEQUENCE:0
BEGIN:VALARM
TRIGGER:-PT15M
ACTION:DISPLAY
DESCRIPTION:Reminder
END:VALARM
END:VEVENT
END:VCALENDAR
